BEGIN:VCALENDAR
VERSION:2.0
PRODID:-//Pretorians Luxemburg - ECPv5.9.1//NONSGML v1.0//EN
CALSCALE:GREGORIAN
METHOD:PUBLISH
X-WR-CALNAME:Pretorians Luxemburg
X-ORIGINAL-URL:https://pretorians.lu
X-WR-CALDESC:Events for Pretorians Luxemburg
BEGIN:VTIMEZONE
TZID:UTC
BEGIN:STANDARD
TZOFFSETFROM:+0000
TZOFFSETTO:+0000
TZNAME:UTC
DTSTART:20210101T000000
END:STANDARD
END:VTIMEZONE
BEGIN:VEVENT
DTSTART;TZID=UTC:20211010T080000
DTEND;TZID=UTC:20211010T173000
DTSTAMP:20211009T231331
CREATED:20210712T130023Z
LAST-MODIFIED:20210712T130023Z
UID:3399-1633852800-1633887000@pretorians.lu
SUMMARY:Intermediate Pistol Concept 10.10.2021
DESCRIPTION:Intermediate Pistol Concept\n\n\nREQUIREMENT: BPC\n\n\nThis course was conceived to train pistol fundamentals to the intermediate level.\nIt is a fast paced training and includes safety instructions\, explanations concerning the weapons\, dry training and shooting exercices.\nThe roots of these techniques come from different branches such as self defense\, close protection and police/military techniques.\nIt is meant for people who want to learn how to shoot with a pistol in a more dynamic way than they are used in an average shooting range.\n\n\n\nEquipment used:\n-Holster and Magpouch\n-Weapon platform will be Glock 17/19\n-at least 250 rounds of 9mm.\n\n\nAfter completion of this training you will be able to handle your weapon in a safe manner and therefore be eligible for our IPC.\n\n\nWe the Pretorians will always evaluate the skillset of each student individually and the Certificate of Completion will only be handed out with the approval of the instructors.\n\n\nTake with you: \nStrong belt\, Strong pants and Strong shoes. \nDress appropriately for the weather \nYour Lunch for 12:00 \nFull Paiement after booking this event. \nEmergency Number (MESSAGES ONLY):  +352 621 657 255 \nIf you miss the first checkpoint\, second checkpoint: La Poudrière Bellefontaine\, 55100 Charny-sur-Meuse FRANCE
URL:https://pretorians.lu/event/intermediate-pistol-concept-10-10-2021/
LOCATION:Check Point Cactus Luxembourg\, 6 Avenue de Luxembourg\, Käerjeng\, 4950\, Luxembourg
CATEGORIES:courses,IPC
ATTACH;FMTTYPE=image/jpeg:https://pretorians.lu/wp-content/uploads/2020/12/0208364.jpg
ORGANIZER;CN="Mike":MAILTO:info@pretorians.lu
END:VEVENT
BEGIN:VEVENT
DTSTART;TZID=UTC:20211017T080000
DTEND;TZID=UTC:20211018T173000
DTSTAMP:20211009T231331
CREATED:20210712T130557Z
LAST-MODIFIED:20210712T130557Z
UID:3411-1634457600-1634578200@pretorians.lu
SUMMARY:Long Range Shooting Course 17-18.10.21
DESCRIPTION:Long Range Shooting Course\n\n\nREQUIREMENT: \n\n\nThis course was conceived to train pistol fundamentals to the intermediate level.\nIt is a fast paced training and includes safety instructions\, explanations concerning the weapons\, dry training and shooting exercices.\nThe roots of these techniques come from different branches such as self defense\, close protection and police/military techniques.\nIt is meant for people who want to learn how to shoot with a pistol in a more dynamic way than they are used in an average shooting range.\n\n\n\nEquipment used:\n-Holster and Magpouch\n-Weapon platform will be Glock 17/19\n-at least 250 rounds of 9mm.\n\n\nAfter completion of this training you will be able to handle your weapon in a safe manner and therefore be eligible for our IPC.\n\n\nWe the Pretorians will always evaluate the skillset of each student individually and the Certificate of Completion will only be handed out with the approval of the instructors.\n\n\nTake with you: \nStrong belt\, Strong pants and Strong shoes. \nDress appropriately for the weather \nYour Lunch for 12:00 \nFull Paiement after booking this event. \nEmergency Number (MESSAGES ONLY):  +352 621 657 255 \nIf you miss the first checkpoint\, second checkpoint: La Poudrière Bellefontaine\, 55100 Charny-sur-Meuse FRANCE
URL:https://pretorians.lu/event/long-range-shooting-course-17-18-10-21/
LOCATION:Check Point Cactus Luxembourg\, 6 Avenue de Luxembourg\, Käerjeng\, 4950\, Luxembourg
CATEGORIES:courses,IPC
ATTACH;FMTTYPE=image/jpeg:https://pretorians.lu/wp-content/uploads/2020/10/0205339.jpg
ORGANIZER;CN="Mike":MAILTO:info@pretorians.lu
END:VEVENT
BEGIN:VEVENT
DTSTART;TZID=UTC:20211113T080000
DTEND;TZID=UTC:20211114T173000
DTSTAMP:20211009T231331
CREATED:20210712T130857Z
LAST-MODIFIED:20210717T193002Z
UID:3415-1636790400-1636911000@pretorians.lu
SUMMARY:Combined Firearms 13-14.11.2021
DESCRIPTION:Combined Firearms\n\n\nREQUIREMENT: BPC\n\n\nThe combined firearms class puts the handling of two weapon systems at test.\nYou will learn how to do transitions from the primary weapon system to the secondary and how to bring them back in action.\nWe will show you the different ways of doing to show you pros and cons of the different techniques. We will also talk about slings who play a major role in this.\nThe course will be fast paced and will end with different dynamic shooting exercices and shooting while moving.\n\n\n\nEquipment used:\n-Holster and Magpouch\n-Weapon platform will be Glock 17/19\n-at least 250 rounds of 9mm.\n\n\nAfter completion of this training you will be able to handle your weapon in a safe manner and therefore be eligible for our IPC.\n\n\nWe the Pretorians will always evaluate the skillset of each student individually and the Certificate of Completion will only be handed out with the approval of the instructors.\n\n\nTake with you: \nStrong belt\, Strong pants and Strong shoes. \nDress appropriately for the weather \nYour Lunch for 12:00 \nFull Paiement after booking this event. \nEmergency Number (MESSAGES ONLY):  +352 621 657 255 \nIf you miss the first checkpoint\, second checkpoint: La Poudrière Bellefontaine\, 55100 Charny-sur-Meuse FRANCE
URL:https://pretorians.lu/event/combined-firearms-13-14-11-2021/
LOCATION:Check Point Cactus Luxembourg\, 6 Avenue de Luxembourg\, Käerjeng\, 4950\, Luxembourg
CATEGORIES:courses,IPC
ATTACH;FMTTYPE=image/jpeg:https://pretorians.lu/wp-content/uploads/2020/10/0205305.jpg
ORGANIZER;CN="Mike":MAILTO:info@pretorians.lu
END:VEVENT
BEGIN:VEVENT
DTSTART;TZID=UTC:20211121T080000
DTEND;TZID=UTC:20211121T173000
DTSTAMP:20211009T231331
CREATED:20210712T130308Z
LAST-MODIFIED:20210712T130314Z
UID:3407-1637481600-1637515800@pretorians.lu
SUMMARY:Intermediate Pistol Concept 21.11.2021
DESCRIPTION:Intermediate Pistol Concept\n\n\nREQUIREMENT: BPC\n\n\nThis course was conceived to train pistol fundamentals to the intermediate level.\nIt is a fast paced training and includes safety instructions\, explanations concerning the weapons\, dry training and shooting exercices.\nThe roots of these techniques come from different branches such as self defense\, close protection and police/military techniques.\nIt is meant for people who want to learn how to shoot with a pistol in a more dynamic way than they are used in an average shooting range.\n\n\n\nEquipment used:\n-Holster and Magpouch\n-Weapon platform will be Glock 17/19\n-at least 250 rounds of 9mm.\n\n\nAfter completion of this training you will be able to handle your weapon in a safe manner and therefore be eligible for our IPC.\n\n\nWe the Pretorians will always evaluate the skillset of each student individually and the Certificate of Completion will only be handed out with the approval of the instructors.\n\n\nTake with you: \nStrong belt\, Strong pants and Strong shoes. \nDress appropriately for the weather \nYour Lunch for 12:00 \nFull Paiement after booking this event. \nEmergency Number (MESSAGES ONLY):  +352 621 657 255 \nIf you miss the first checkpoint\, second checkpoint: La Poudrière Bellefontaine\, 55100 Charny-sur-Meuse FRANCE
URL:https://pretorians.lu/event/intermediate-pistol-concept-21-11-2021/
LOCATION:Check Point Cactus Luxembourg\, 6 Avenue de Luxembourg\, Käerjeng\, 4950\, Luxembourg
CATEGORIES:courses,IPC
ATTACH;FMTTYPE=image/jpeg:https://pretorians.lu/wp-content/uploads/2021/03/BBB7622.jpg
ORGANIZER;CN="Mike":MAILTO:info@pretorians.lu
END:VEVENT
END:VCALENDAR