BEGIN:VCALENDAR
VERSION:2.0
PRODID:-//Pretorians Luxemburg - ECPv5.9.1//NONSGML v1.0//EN
CALSCALE:GREGORIAN
METHOD:PUBLISH
X-WR-CALNAME:Pretorians Luxemburg
X-ORIGINAL-URL:https://pretorians.lu
X-WR-CALDESC:Events for Pretorians Luxemburg
BEGIN:VTIMEZONE
TZID:UTC
BEGIN:STANDARD
TZOFFSETFROM:+0000
TZOFFSETTO:+0000
TZNAME:UTC
DTSTART:20210101T000000
END:STANDARD
END:VTIMEZONE
BEGIN:VEVENT
DTSTART;TZID=UTC:20210911T090000
DTEND;TZID=UTC:20210911T180000
DTSTAMP:20211011T102637
CREATED:20210712T125608Z
LAST-MODIFIED:20210712T125805Z
UID:3391-1631350800-1631383200@pretorians.lu
SUMMARY:Law Enforcement Defence Pistol Concept (ONLY FOR PROFESSIONALS) 11.09.21
DESCRIPTION:Law Enforcement Defence Pistol Concept (ONLY FOR PROFESSIONALS)\n\n\n\nThe main goal for this training is to revise and reforce skills already known to the students and also teach new techniques or skills to add to their toolbox.\nThe course is build up on a steady pace.\nWe will ensure that everyone is on the same page so we can then start building up on the new stuff.\nAll techniques and informations shared are from professionals and for professionals only.\nPractical and no fancy stuff.\nBecause in a good training session there is not only the how.\nBut also the why and when that must be discussed.\n\nTake with you: \nStrong belt\, Strong pants and Strong shoes. \nDress appropriately for the weather \nYour Lunch for 12:00 \nFull Paiement after booking this event. \nEmergency Number (MESSAGES ONLY):  +352 621 657 255 \nIf you miss the first checkpoint\, second checkpoint: La Poudrière Bellefontaine\, 55100 Charny-sur-Meuse FRANCE
URL:https://pretorians.lu/event/law-enforcement-defence-pistol-concept-only-for-professionals-11-09-21/
LOCATION:Check Point Cactus Luxembourg\, 6 Avenue de Luxembourg\, Käerjeng\, 4950\, Luxembourg
CATEGORIES:BPC,courses
ATTACH;FMTTYPE=image/jpeg:https://pretorians.lu/wp-content/uploads/2020/12/0208435.jpg
ORGANIZER;CN="Mike":MAILTO:info@pretorians.lu
END:VEVENT
BEGIN:VEVENT
DTSTART;TZID=UTC:20210912T080000
DTEND;TZID=UTC:20210912T173000
DTSTAMP:20211011T102637
CREATED:20210712T124517Z
LAST-MODIFIED:20210722T152332Z
UID:3363-1631433600-1631467800@pretorians.lu
SUMMARY:Basic Pistol Concept 12.09.2021
DESCRIPTION:Basic Pistol Concept\n\n\nThis course was conceived to train pistol fundamentals.\nIt is a fast paced training and includes safety instructions\, explanations concerning the weapons\, dry training and shooting exercices.\nThe roots of these techniques come from different branches such as self defense\, close protection and police/military techniques.\nIt is meant for people who want to learn how to shoot with a pistol in a more dynamic way than they are used in an average shooting range.\n\n\n\nEquipment used:\n-Holster and Magpouch\n-Weapon platform will be Glock 17/19\n-at least 250 rounds of 9mm.\n\n\nAfter completion of this training you will be able to handle your weapon in a safe manner and therefore be eligible for our IPC.\n\n\nWe the Pretorians will always evaluate the skillset of each student individually and the Certificate of Completion will only be handed out with the approval of the instructors.\n\n\nTake with you: \nStrong belt\, Strong pants and Strong shoes. \nDress appropriately for the weather \nYour Lunch for 12:00 \nFull Paiement after booking this event. \nEmergency Number (MESSAGES ONLY):  +352 621 657 255 \nIf you miss the first checkpoint\, second checkpoint: La Poudrière Bellefontaine\, 55100 Charny-sur-Meuse FRANCE
URL:https://pretorians.lu/event/basic-pistol-concept-12-09-2021/
LOCATION:Check Point Cactus Luxembourg\, 6 Avenue de Luxembourg\, Käerjeng\, 4950\, Luxembourg
CATEGORIES:BPC,courses
ATTACH;FMTTYPE=image/jpeg:https://pretorians.lu/wp-content/uploads/2021/03/0202474.jpg
ORGANIZER;CN="Mike":MAILTO:info@pretorians.lu
END:VEVENT
BEGIN:VEVENT
DTSTART;TZID=UTC:20211010T080000
DTEND;TZID=UTC:20211010T173000
DTSTAMP:20211011T102637
CREATED:20210712T125009Z
LAST-MODIFIED:20210712T125009Z
UID:3367-1633852800-1633887000@pretorians.lu
SUMMARY:Basic Pistol Concept 10.10.2021
DESCRIPTION:Basic Pistol Concept\n\n\nThis course was conceived to train pistol fundamentals.\nIt is a fast paced training and includes safety instructions\, explanations concerning the weapons\, dry training and shooting exercices.\nThe roots of these techniques come from different branches such as self defense\, close protection and police/military techniques.\nIt is meant for people who want to learn how to shoot with a pistol in a more dynamic way than they are used in an average shooting range.\n\n\n\nEquipment used:\n-Holster and Magpouch\n-Weapon platform will be Glock 17/19\n-at least 250 rounds of 9mm.\n\n\nAfter completion of this training you will be able to handle your weapon in a safe manner and therefore be eligible for our IPC.\n\n\nWe the Pretorians will always evaluate the skillset of each student individually and the Certificate of Completion will only be handed out with the approval of the instructors.\n\n\nTake with you: \nStrong belt\, Strong pants and Strong shoes. \nDress appropriately for the weather \nYour Lunch for 12:00 \nFull Paiement after booking this event. \nEmergency Number (MESSAGES ONLY):  +352 621 657 255 \nIf you miss the first checkpoint\, second checkpoint: La Poudrière Bellefontaine\, 55100 Charny-sur-Meuse FRANCE
URL:https://pretorians.lu/event/basic-pistol-concept-10-10-2021/
LOCATION:Check Point Cactus Luxembourg\, 6 Avenue de Luxembourg\, Käerjeng\, 4950\, Luxembourg
CATEGORIES:BPC,courses
ATTACH;FMTTYPE=image/jpeg:https://pretorians.lu/wp-content/uploads/2021/06/85M01841.jpg
ORGANIZER;CN="Mike":MAILTO:info@pretorians.lu
END:VEVENT
BEGIN:VEVENT
DTSTART;TZID=UTC:20211016T080000
DTEND;TZID=UTC:20211016T173000
DTSTAMP:20211011T102637
CREATED:20210712T125115Z
LAST-MODIFIED:20210712T125115Z
UID:3371-1634371200-1634405400@pretorians.lu
SUMMARY:Basic Pistol Concept 16.10.2021
DESCRIPTION:Basic Pistol Concept\n\n\nThis course was conceived to train pistol fundamentals.\nIt is a fast paced training and includes safety instructions\, explanations concerning the weapons\, dry training and shooting exercices.\nThe roots of these techniques come from different branches such as self defense\, close protection and police/military techniques.\nIt is meant for people who want to learn how to shoot with a pistol in a more dynamic way than they are used in an average shooting range.\n\n\n\nEquipment used:\n-Holster and Magpouch\n-Weapon platform will be Glock 17/19\n-at least 250 rounds of 9mm.\n\n\nAfter completion of this training you will be able to handle your weapon in a safe manner and therefore be eligible for our IPC.\n\n\nWe the Pretorians will always evaluate the skillset of each student individually and the Certificate of Completion will only be handed out with the approval of the instructors.\n\n\nTake with you: \nStrong belt\, Strong pants and Strong shoes. \nDress appropriately for the weather \nYour Lunch for 12:00 \nFull Paiement after booking this event. \nEmergency Number (MESSAGES ONLY):  +352 621 657 255 \nIf you miss the first checkpoint\, second checkpoint: La Poudrière Bellefontaine\, 55100 Charny-sur-Meuse FRANCE
URL:https://pretorians.lu/event/basic-pistol-concept-16-10-2021/
LOCATION:Check Point Cactus Luxembourg\, 6 Avenue de Luxembourg\, Käerjeng\, 4950\, Luxembourg
CATEGORIES:BPC,courses
ATTACH;FMTTYPE=image/jpeg:https://pretorians.lu/wp-content/uploads/2021/06/85M01496.jpg
ORGANIZER;CN="Mike":MAILTO:info@pretorians.lu
END:VEVENT
BEGIN:VEVENT
DTSTART;TZID=UTC:20211017T080000
DTEND;TZID=UTC:20211017T173000
DTSTAMP:20211011T102637
CREATED:20210712T125157Z
LAST-MODIFIED:20210712T131126Z
UID:3375-1634457600-1634491800@pretorians.lu
SUMMARY:Basic Pistol Concept 17.10.2021
DESCRIPTION:Basic Pistol Concept\n\n\nThis course was conceived to train pistol fundamentals.\nIt is a fast paced training and includes safety instructions\, explanations concerning the weapons\, dry training and shooting exercices.\nThe roots of these techniques come from different branches such as self defense\, close protection and police/military techniques.\nIt is meant for people who want to learn how to shoot with a pistol in a more dynamic way than they are used in an average shooting range.\n\n\n\nEquipment used:\n-Holster and Magpouch\n-Weapon platform will be Glock 17/19\n-at least 250 rounds of 9mm.\n\n\nAfter completion of this training you will be able to handle your weapon in a safe manner and therefore be eligible for our IPC.\n\n\nWe the Pretorians will always evaluate the skillset of each student individually and the Certificate of Completion will only be handed out with the approval of the instructors.\n\n\nTake with you: \nStrong belt\, Strong pants and Strong shoes. \nDress appropriately for the weather \nYour Lunch for 12:00 \nFull Paiement after booking this event. \nEmergency Number (MESSAGES ONLY):  +352 621 657 255 \nIf you miss the first checkpoint\, second checkpoint: La Poudrière Bellefontaine\, 55100 Charny-sur-Meuse FRANCE
URL:https://pretorians.lu/event/basic-pistol-concept-17-10-2021/
LOCATION:Check Point Cactus Luxembourg\, 6 Avenue de Luxembourg\, Käerjeng\, 4950\, Luxembourg
CATEGORIES:BPC,courses
ATTACH;FMTTYPE=image/jpeg:https://pretorians.lu/wp-content/uploads/2020/10/0205645.jpg
ORGANIZER;CN="Mike":MAILTO:info@pretorians.lu
END:VEVENT
BEGIN:VEVENT
DTSTART;TZID=UTC:20211107T080000
DTEND;TZID=UTC:20211107T173000
DTSTAMP:20211011T102637
CREATED:20210712T125255Z
LAST-MODIFIED:20210712T125255Z
UID:3379-1636272000-1636306200@pretorians.lu
SUMMARY:Basic Pistol Concept 07.11.2021
DESCRIPTION:Basic Pistol Concept\n\n\nThis course was conceived to train pistol fundamentals.\nIt is a fast paced training and includes safety instructions\, explanations concerning the weapons\, dry training and shooting exercices.\nThe roots of these techniques come from different branches such as self defense\, close protection and police/military techniques.\nIt is meant for people who want to learn how to shoot with a pistol in a more dynamic way than they are used in an average shooting range.\n\n\n\nEquipment used:\n-Holster and Magpouch\n-Weapon platform will be Glock 17/19\n-at least 250 rounds of 9mm.\n\n\nAfter completion of this training you will be able to handle your weapon in a safe manner and therefore be eligible for our IPC.\n\n\nWe the Pretorians will always evaluate the skillset of each student individually and the Certificate of Completion will only be handed out with the approval of the instructors.\n\n\nTake with you: \nStrong belt\, Strong pants and Strong shoes. \nDress appropriately for the weather \nYour Lunch for 12:00 \nFull Paiement after booking this event. \nEmergency Number (MESSAGES ONLY):  +352 621 657 255 \nIf you miss the first checkpoint\, second checkpoint: La Poudrière Bellefontaine\, 55100 Charny-sur-Meuse FRANCE
URL:https://pretorians.lu/event/basic-pistol-concept-07-11-2021/
LOCATION:Check Point Cactus Luxembourg\, 6 Avenue de Luxembourg\, Käerjeng\, 4950\, Luxembourg
CATEGORIES:BPC,courses
ATTACH;FMTTYPE=image/jpeg:https://pretorians.lu/wp-content/uploads/2021/06/85M01496.jpg
ORGANIZER;CN="Mike":MAILTO:info@pretorians.lu
END:VEVENT
BEGIN:VEVENT
DTSTART;TZID=UTC:20211114T080000
DTEND;TZID=UTC:20211114T173000
DTSTAMP:20211011T102637
CREATED:20210712T125342Z
LAST-MODIFIED:20210712T125342Z
UID:3383-1636876800-1636911000@pretorians.lu
SUMMARY:Basic Pistol Concept 14.11.2021
DESCRIPTION:Basic Pistol Concept\n\n\nThis course was conceived to train pistol fundamentals.\nIt is a fast paced training and includes safety instructions\, explanations concerning the weapons\, dry training and shooting exercices.\nThe roots of these techniques come from different branches such as self defense\, close protection and police/military techniques.\nIt is meant for people who want to learn how to shoot with a pistol in a more dynamic way than they are used in an average shooting range.\n\n\n\nEquipment used:\n-Holster and Magpouch\n-Weapon platform will be Glock 17/19\n-at least 250 rounds of 9mm.\n\n\nAfter completion of this training you will be able to handle your weapon in a safe manner and therefore be eligible for our IPC.\n\n\nWe the Pretorians will always evaluate the skillset of each student individually and the Certificate of Completion will only be handed out with the approval of the instructors.\n\n\nTake with you: \nStrong belt\, Strong pants and Strong shoes. \nDress appropriately for the weather \nYour Lunch for 12:00 \nFull Paiement after booking this event. \nEmergency Number (MESSAGES ONLY):  +352 621 657 255 \nIf you miss the first checkpoint\, second checkpoint: La Poudrière Bellefontaine\, 55100 Charny-sur-Meuse FRANCE
URL:https://pretorians.lu/event/basic-pistol-concept-14-11-2021/
LOCATION:Check Point Cactus Luxembourg\, 6 Avenue de Luxembourg\, Käerjeng\, 4950\, Luxembourg
CATEGORIES:BPC,courses
ATTACH;FMTTYPE=image/jpeg:https://pretorians.lu/wp-content/uploads/2021/03/BBB7617.jpg
ORGANIZER;CN="Mike":MAILTO:info@pretorians.lu
END:VEVENT
BEGIN:VEVENT
DTSTART;TZID=UTC:20211121T080000
DTEND;TZID=UTC:20211121T173000
DTSTAMP:20211011T102637
CREATED:20210712T125450Z
LAST-MODIFIED:20210712T125450Z
UID:3387-1637481600-1637515800@pretorians.lu
SUMMARY:Basic Pistol Concept 21.11.2021
DESCRIPTION:Basic Pistol Concept\n\n\nThis course was conceived to train pistol fundamentals.\nIt is a fast paced training and includes safety instructions\, explanations concerning the weapons\, dry training and shooting exercices.\nThe roots of these techniques come from different branches such as self defense\, close protection and police/military techniques.\nIt is meant for people who want to learn how to shoot with a pistol in a more dynamic way than they are used in an average shooting range.\n\n\n\nEquipment used:\n-Holster and Magpouch\n-Weapon platform will be Glock 17/19\n-at least 250 rounds of 9mm.\n\n\nAfter completion of this training you will be able to handle your weapon in a safe manner and therefore be eligible for our IPC.\n\n\nWe the Pretorians will always evaluate the skillset of each student individually and the Certificate of Completion will only be handed out with the approval of the instructors.\n\n\nTake with you: \nStrong belt\, Strong pants and Strong shoes. \nDress appropriately for the weather \nYour Lunch for 12:00 \nFull Paiement after booking this event. \nEmergency Number (MESSAGES ONLY):  +352 621 657 255 \nIf you miss the first checkpoint\, second checkpoint: La Poudrière Bellefontaine\, 55100 Charny-sur-Meuse FRANCE
URL:https://pretorians.lu/event/basic-pistol-concept-21-11-2021/
LOCATION:Check Point Cactus Luxembourg\, 6 Avenue de Luxembourg\, Käerjeng\, 4950\, Luxembourg
CATEGORIES:BPC,courses
ATTACH;FMTTYPE=image/jpeg:https://pretorians.lu/wp-content/uploads/2021/03/0202430.jpg
ORGANIZER;CN="Mike":MAILTO:info@pretorians.lu
END:VEVENT
END:VCALENDAR